Workbook

Sheet Частини світу
A1: Таблиця: Частини світу
A2: Код частини світу | B2: Назва частини світу
A3: 1 | B3: Європа
A4: 2 | B4: Азія
A5: 3 | B5: Африка
A6: 4 | B6: Північна Америка
A7: 5 | B7: Південна Америка
A8: 6 | B8: Австралія та Океанія
A9: 7 | B9: Антарктида

Sheet Форма держ. устрою
A1: Таблиця: Форма державного устрою
A2: Код устрою | B2: Форма державного устрою
A3: 1 | B3: Республіка
A4: 2 | B4: Конституційна монархія
A5: 3 | B5: Абсолютна монархія
A6: 4 | B6: Федеративна республіка
A7: 5 | B7: Президентська республіка
A8: 6 | B8: Парламентська республіка
A9: 7 | B9: Теократична держава

Sheet Країни
A1: Таблиця: Країни світу
A2: Назва країни | B2: Частина світу | C2: Площа (км²) | D2: Кількість населення | E2: Державний устрій | F2: Дата створення | G2: Державний прапор (посилання) | H2: Короткий опис економіки | I2: Густота населення (чол/км²)
A3: Україна | B3: Європа | C3: 603550 | D3: 41500000 | E3: Республіка | F3: 1991-08-24 | G3: https://uk.wikipedia.org/wiki/Прапор_України | H3: Аграрно-індустріальна економіка, значний аграрний сектор | I3: =IF(C3=0,"",ROUND(D3/C3,2))
A4: Франція | B4: Європа | C4: 551695 | D4: 68000000 | E4: Республіка | F4: 1792-09-21 | G4: https://uk.wikipedia.org/wiki/Прапор_Франції | H4: Розвинена ринкова економіка, туризм, авіабудування | I4: =IF(C4=0,"",ROUND(D4/C4,2))
A5: Китай | B5: Азія | C5: 9596960 | D5: 1412000000 | E5: Республіка | F5: 1949-10-01 | G5: https://uk.wikipedia.org/wiki/Прапор_Китаю | H5: Друга економіка світу, промисловість та експорт | I5: =IF(C5=0,"",ROUND(D5/C5,2))
A6: США | B6: Північна Америка | C6: 9833517 | D6: 331000000 | E6: Федеративна республіка | F6: 1776-07-04 | G6: https://uk.wikipedia.org/wiki/Прапор_США | H6: Перша економіка світу, технології та фінанси | I6: =IF(C6=0,"",ROUND(D6/C6,2))
A7: Бразилія | B7: Південна Америка | C7: 8515767 | D7: 215000000 | E7: Федеративна республіка | F7: 1822-09-07 | G7: https://uk.wikipedia.org/wiki/Прапор_Бразилії | H7: Найбільша економіка Латинської Америки, с/г та гірнича пром. | I7: =IF(C7=0,"",ROUND(D7/C7,2))
A8: Єгипет | B8: Африка | C8: 1001449 | D8: 104000000 | E8: Республіка | F8: 1953-06-18 | G8: https://uk.wikipedia.org/wiki/Прапор_Єгипту | H8: Туризм, нафта, Суецький канал | I8: =IF(C8=0,"",ROUND(D8/C8,2))
A9: Австралія | B9: Австралія та Океанія | C9: 7741220 | D9: 26000000 | E9: Конституційна монархія | F9: 1901-01-01 | G9: https://uk.wikipedia.org/wiki/Прапор_Австралії | H9: Гірнича промисловість, с/г, туризм | I9: =IF(C9=0,"",ROUND(D9/C9,2))
A10: Японія | B10: Азія | C10: 377975 | D10: 125000000 | E10: Конституційна монархія | F10: 660 до н.е. | G10: https://uk.wikipedia.org/wiki/Прапор_Японії | H10: Розвинена промисловість, електроніка, автомобілі | I10: =IF(C10=0,"",ROUND(D10/C10,2))
A11: Німеччина | B11: Європа | C11: 357114 | D11: 83000000 | E11: Федеративна республіка | F11: 1990-10-03 | G11: https://uk.wikipedia.org/wiki/Прапор_Німеччини | H11: Найбільша економіка ЄС, машинобудування, хімія | I11: =IF(C11=0,"",ROUND(D11/C11,2))
A12: Саудівська Аравія | B12: Азія | C12: 2149690 | D12: 35000000 | E12: Абсолютна монархія | F12: 1932-09-23 | G12: https://uk.wikipedia.org/wiki/Прапор_Саудівської_Аравії | H12: Нафтова промисловість, найбільший експортер нафти | I12: =IF(C12=0,"",ROUND(D12/C12,2))
A13: Канада | B13: Північна Америка | C13: 9984670 | D13: 38000000 | E13: Конституційна монархія | F13: 1867-07-01 | G13: https://uk.wikipedia.org/wiki/Прапор_Канади | H13: Природні ресурси, с/г, технології | I13: =IF(C13=0,"",ROUND(D13/C13,2))
A14: Індія | B14: Азія | C14: 3287263 | D14: 1400000000 | E14: Федеративна республіка | F14: 1947-08-15 | G14: https://uk.wikipedia.org/wiki/Прапор_Індії | H14: IT-сектор, текстиль, с/г, найшвидше зростаюча велика економіка | I14: =IF(C14=0,"",ROUND(D14/C14,2))

Sheet Майстер форм
A1: Практична робота 18 — Зведена таблиця (Майстер форм)
A2: Назва країни | B2: Частина світу | C2: Площа (км²) | D2: Густота населення (чол/км²)
A3: =Країни!A3 | B3: =Країни!B3 | C3: =Країни!C3 | D3: =Країни!I3
A4: =Країни!A4 | B4: =Країни!B4 | C4: =Країни!C4 | D4: =Країни!I4
A5: =Країни!A5 | B5: =Країни!B5 | C5: =Країни!C5 | D5: =Країни!I5
A6: =Країни!A6 | B6: =Країни!B6 | C6: =Країни!C6 | D6: =Країни!I6
A7: =Країни!A7 | B7: =Країни!B7 | C7: =Країни!C7 | D7: =Країни!I7
A8: =Країни!A8 | B8: =Країни!B8 | C8: =Країни!C8 | D8: =Країни!I8
A9: =Країни!A9 | B9: =Країни!B9 | C9: =Країни!C9 | D9: =Країни!I9
A10: =Країни!A10 | B10: =Країни!B10 | C10: =Країни!C10 | D10: =Країни!I10
A11: =Країни!A11 | B11: =Країни!B11 | C11: =Країни!C11 | D11: =Країни!I11
A12: =Країни!A12 | B12: =Країни!B12 | C12: =Країни!C12 | D12: =Країни!I12
A13: =Країни!A13 | B13: =Країни!B13 | C13: =Країни!C13 | D13: =Країни!I13
A14: =Країни!A14 | B14: =Країни!B14 | C14: =Країни!C14 | D14: =Країни!I14
